BEGIN:VCALENDAR
VERSION:2.0
PRODID:-//eventon.com NONSGML v1.0//EN
CALSCALE:GREGORIAN
METHOD:PUBLISH
BEGIN:VEVENT
UID:69e7505150558
DTSTAMP:20260421T102417Z
DTSTART:20260625T173000Z
DTEND:20260625T193000Z
LOCATION:Brausaal im Liebesbier Andreas-Maisel-Weg 1\,  95445 Bayreuth
SUMMARY:Ludwig Zwei bei Karl May
DESCRIPTION:Ein musikalisch-literarisches Pasticcio präsentiert von Claus 
 J. Frankl Die multimediale Feierabend-Lounge „Ludwig Zwei bei Karl May: D
 er Weg zum Glück!“\,  die es so wohl kein zweites Mal in Bayreuth geben 
 wird\,  thematisiert die überraschende literarischen Verbindung zwischen K
 önig Ludwig II. von Bayern und Karl May. Ausgangspunkt ist ein nahezu verg
 essener[..]\nhttps://musica-bayreuth.de/events/ludwig-ii-bei-karl-may/
URL:https://musica-bayreuth.de/events/ludwig-ii-bei-karl-may/
END:VEVENT
END:VCALENDAR