BEGIN:VCALENDAR
VERSION:2.0
PRODID:-//eventon.com NONSGML v1.0//EN
CALSCALE:GREGORIAN
METHOD:PUBLISH
BEGIN:VEVENT
UID:69e76ca5d62a8
DTSTAMP:20260421T122509Z
DTSTART:20250421T170000Z
DTEND:20250421T183000Z
LOCATION:Das ZENTRUM - Europasaal Äußere Badstraße 7A\,  95448 Bayreuth
SUMMARY:Mozart - European Spirit
DESCRIPTION:Leider musste dieses Konzert des Veranstalters deutsch-französ
 isches Forum junger Kunst abgesagt werden. Bitte klicken Sie auf diesen Lin
 k um mehr Informationen zu erhalten. Genießen Sie einen Abend voller musik
 alischer Vielfalt und genießerischer Raffinesse\,  in dem der junge Mozart
  mit seiner Schaffenskraft und seinem kreativen Genie zu hören ist. Die We
 rke[..]\nhttps://musica-bayreuth.de/events/mozart-european-spirit/
URL:https://musica-bayreuth.de/events/mozart-european-spirit/
END:VEVENT
END:VCALENDAR